BEGIN:VCALENDAR
VERSION:2.0
PRODID:-//Arundel Cathedral - ECPv5.16.4//NONSGML v1.0//EN
CALSCALE:GREGORIAN
METHOD:PUBLISH
X-WR-CALNAME:Arundel Cathedral
X-ORIGINAL-URL:https://arundelcathedral.uk
X-WR-CALDESC:Events for Arundel Cathedral
REFRESH-INTERVAL;VALUE=DURATION:PT1H
X-Robots-Tag:noindex
X-PUBLISHED-TTL:PT1H
BEGIN:VTIMEZONE
TZID:Europe/London
BEGIN:DAYLIGHT
TZOFFSETFROM:+0000
TZOFFSETTO:+0100
TZNAME:BST
DTSTART:20270328T010000
END:DAYLIGHT
BEGIN:STANDARD
TZOFFSETFROM:+0100
TZOFFSETTO:+0000
TZNAME:GMT
DTSTART:20271031T010000
END:STANDARD
BEGIN:DAYLIGHT
TZOFFSETFROM:+0000
TZOFFSETTO:+0100
TZNAME:BST
DTSTART:20280326T010000
END:DAYLIGHT
BEGIN:STANDARD
TZOFFSETFROM:+0100
TZOFFSETTO:+0000
TZNAME:GMT
DTSTART:20281029T010000
END:STANDARD
END:VTIMEZONE
BEGIN:VEVENT
DTSTART;TZID=Europe/London:20270617T100000
DTEND;TZID=Europe/London:20270617T103000
DTSTAMP:20260421T103439
CREATED:20200728T132116Z
LAST-MODIFIED:20200728T132116Z
UID:35695-1813226400-1813228200@arundelcathedral.uk
SUMMARY:Mass at Storrington
DESCRIPTION:Mass
URL:https://arundelcathedral.uk/event/mass-5/2027-06-17
LOCATION:Our Lady of England Church\, School Lane\, Storrington\, RH20 4LN\, School Lane\, Storrington\, RH20 4LN\, United Kingdom
END:VEVENT
BEGIN:VEVENT
DTSTART;TZID=Europe/London:20270624T100000
DTEND;TZID=Europe/London:20270624T103000
DTSTAMP:20260421T103439
CREATED:20200728T132116Z
LAST-MODIFIED:20200728T132116Z
UID:35728-1813831200-1813833000@arundelcathedral.uk
SUMMARY:Mass at Storrington
DESCRIPTION:Mass
URL:https://arundelcathedral.uk/event/mass-5/2027-06-24
LOCATION:Our Lady of England Church\, School Lane\, Storrington\, RH20 4LN\, School Lane\, Storrington\, RH20 4LN\, United Kingdom
END:VEVENT
BEGIN:VEVENT
DTSTART;TZID=Europe/London:20270701T100000
DTEND;TZID=Europe/London:20270701T103000
DTSTAMP:20260421T103439
CREATED:20200728T132116Z
LAST-MODIFIED:20200728T132116Z
UID:35747-1814436000-1814437800@arundelcathedral.uk
SUMMARY:Mass at Storrington
DESCRIPTION:Mass
URL:https://arundelcathedral.uk/event/mass-5/2027-07-01
LOCATION:Our Lady of England Church\, School Lane\, Storrington\, RH20 4LN\, School Lane\, Storrington\, RH20 4LN\, United Kingdom
END:VEVENT
BEGIN:VEVENT
DTSTART;TZID=Europe/London:20270708T100000
DTEND;TZID=Europe/London:20270708T103000
DTSTAMP:20260421T103439
CREATED:20200728T132116Z
LAST-MODIFIED:20200728T132116Z
UID:35769-1815040800-1815042600@arundelcathedral.uk
SUMMARY:Mass at Storrington
DESCRIPTION:Mass
URL:https://arundelcathedral.uk/event/mass-5/2027-07-08
LOCATION:Our Lady of England Church\, School Lane\, Storrington\, RH20 4LN\, School Lane\, Storrington\, RH20 4LN\, United Kingdom
END:VEVENT
BEGIN:VEVENT
DTSTART;TZID=Europe/London:20270715T100000
DTEND;TZID=Europe/London:20270715T103000
DTSTAMP:20260421T103439
CREATED:20200728T132116Z
LAST-MODIFIED:20200728T132116Z
UID:35788-1815645600-1815647400@arundelcathedral.uk
SUMMARY:Mass at Storrington
DESCRIPTION:Mass
URL:https://arundelcathedral.uk/event/mass-5/2027-07-15
LOCATION:Our Lady of England Church\, School Lane\, Storrington\, RH20 4LN\, School Lane\, Storrington\, RH20 4LN\, United Kingdom
END:VEVENT
BEGIN:VEVENT
DTSTART;TZID=Europe/London:20270722T100000
DTEND;TZID=Europe/London:20270722T103000
DTSTAMP:20260421T103439
CREATED:20200728T132116Z
LAST-MODIFIED:20200728T132116Z
UID:35800-1816250400-1816252200@arundelcathedral.uk
SUMMARY:Mass at Storrington
DESCRIPTION:Mass
URL:https://arundelcathedral.uk/event/mass-5/2027-07-22
LOCATION:Our Lady of England Church\, School Lane\, Storrington\, RH20 4LN\, School Lane\, Storrington\, RH20 4LN\, United Kingdom
END:VEVENT
BEGIN:VEVENT
DTSTART;TZID=Europe/London:20270729T100000
DTEND;TZID=Europe/London:20270729T103000
DTSTAMP:20260421T103439
CREATED:20200728T132116Z
LAST-MODIFIED:20200728T132116Z
UID:35825-1816855200-1816857000@arundelcathedral.uk
SUMMARY:Mass at Storrington
DESCRIPTION:Mass
URL:https://arundelcathedral.uk/event/mass-5/2027-07-29
LOCATION:Our Lady of England Church\, School Lane\, Storrington\, RH20 4LN\, School Lane\, Storrington\, RH20 4LN\, United Kingdom
END:VEVENT
BEGIN:VEVENT
DTSTART;TZID=Europe/London:20270805T100000
DTEND;TZID=Europe/London:20270805T103000
DTSTAMP:20260421T103439
CREATED:20200728T132116Z
LAST-MODIFIED:20200728T132116Z
UID:35863-1817460000-1817461800@arundelcathedral.uk
SUMMARY:Mass at Storrington
DESCRIPTION:Mass
URL:https://arundelcathedral.uk/event/mass-5/2027-08-05
LOCATION:Our Lady of England Church\, School Lane\, Storrington\, RH20 4LN\, School Lane\, Storrington\, RH20 4LN\, United Kingdom
END:VEVENT
BEGIN:VEVENT
DTSTART;TZID=Europe/London:20270812T100000
DTEND;TZID=Europe/London:20270812T103000
DTSTAMP:20260421T103439
CREATED:20200728T132116Z
LAST-MODIFIED:20200728T132116Z
UID:35898-1818064800-1818066600@arundelcathedral.uk
SUMMARY:Mass at Storrington
DESCRIPTION:Mass
URL:https://arundelcathedral.uk/event/mass-5/2027-08-12
LOCATION:Our Lady of England Church\, School Lane\, Storrington\, RH20 4LN\, School Lane\, Storrington\, RH20 4LN\, United Kingdom
END:VEVENT
BEGIN:VEVENT
DTSTART;TZID=Europe/London:20270819T100000
DTEND;TZID=Europe/London:20270819T103000
DTSTAMP:20260421T103439
CREATED:20200728T132116Z
LAST-MODIFIED:20200728T132116Z
UID:35913-1818669600-1818671400@arundelcathedral.uk
SUMMARY:Mass at Storrington
DESCRIPTION:Mass
URL:https://arundelcathedral.uk/event/mass-5/2027-08-19
LOCATION:Our Lady of England Church\, School Lane\, Storrington\, RH20 4LN\, School Lane\, Storrington\, RH20 4LN\, United Kingdom
END:VEVENT
BEGIN:VEVENT
DTSTART;TZID=Europe/London:20270826T100000
DTEND;TZID=Europe/London:20270826T103000
DTSTAMP:20260421T103439
CREATED:20200728T132116Z
LAST-MODIFIED:20200728T132116Z
UID:35929-1819274400-1819276200@arundelcathedral.uk
SUMMARY:Mass at Storrington
DESCRIPTION:Mass
URL:https://arundelcathedral.uk/event/mass-5/2027-08-26
LOCATION:Our Lady of England Church\, School Lane\, Storrington\, RH20 4LN\, School Lane\, Storrington\, RH20 4LN\, United Kingdom
END:VEVENT
BEGIN:VEVENT
DTSTART;TZID=Europe/London:20270902T100000
DTEND;TZID=Europe/London:20270902T103000
DTSTAMP:20260421T103439
CREATED:20200728T132116Z
LAST-MODIFIED:20200728T132116Z
UID:35944-1819879200-1819881000@arundelcathedral.uk
SUMMARY:Mass at Storrington
DESCRIPTION:Mass
URL:https://arundelcathedral.uk/event/mass-5/2027-09-02
LOCATION:Our Lady of England Church\, School Lane\, Storrington\, RH20 4LN\, School Lane\, Storrington\, RH20 4LN\, United Kingdom
END:VEVENT
BEGIN:VEVENT
DTSTART;TZID=Europe/London:20270909T100000
DTEND;TZID=Europe/London:20270909T103000
DTSTAMP:20260421T103439
CREATED:20200728T132116Z
LAST-MODIFIED:20200728T132116Z
UID:35961-1820484000-1820485800@arundelcathedral.uk
SUMMARY:Mass at Storrington
DESCRIPTION:Mass
URL:https://arundelcathedral.uk/event/mass-5/2027-09-09
LOCATION:Our Lady of England Church\, School Lane\, Storrington\, RH20 4LN\, School Lane\, Storrington\, RH20 4LN\, United Kingdom
END:VEVENT
BEGIN:VEVENT
DTSTART;TZID=Europe/London:20270916T100000
DTEND;TZID=Europe/London:20270916T103000
DTSTAMP:20260421T103439
CREATED:20200728T132116Z
LAST-MODIFIED:20200728T132116Z
UID:35987-1821088800-1821090600@arundelcathedral.uk
SUMMARY:Mass at Storrington
DESCRIPTION:Mass
URL:https://arundelcathedral.uk/event/mass-5/2027-09-16
LOCATION:Our Lady of England Church\, School Lane\, Storrington\, RH20 4LN\, School Lane\, Storrington\, RH20 4LN\, United Kingdom
END:VEVENT
BEGIN:VEVENT
DTSTART;TZID=Europe/London:20270923T100000
DTEND;TZID=Europe/London:20270923T103000
DTSTAMP:20260421T103439
CREATED:20200728T132116Z
LAST-MODIFIED:20200728T132116Z
UID:36002-1821693600-1821695400@arundelcathedral.uk
SUMMARY:Mass at Storrington
DESCRIPTION:Mass
URL:https://arundelcathedral.uk/event/mass-5/2027-09-23
LOCATION:Our Lady of England Church\, School Lane\, Storrington\, RH20 4LN\, School Lane\, Storrington\, RH20 4LN\, United Kingdom
END:VEVENT
BEGIN:VEVENT
DTSTART;TZID=Europe/London:20270930T100000
DTEND;TZID=Europe/London:20270930T103000
DTSTAMP:20260421T103439
CREATED:20200728T132116Z
LAST-MODIFIED:20200728T132116Z
UID:36019-1822298400-1822300200@arundelcathedral.uk
SUMMARY:Mass at Storrington
DESCRIPTION:Mass
URL:https://arundelcathedral.uk/event/mass-5/2027-09-30
LOCATION:Our Lady of England Church\, School Lane\, Storrington\, RH20 4LN\, School Lane\, Storrington\, RH20 4LN\, United Kingdom
END:VEVENT
BEGIN:VEVENT
DTSTART;TZID=Europe/London:20271007T100000
DTEND;TZID=Europe/London:20271007T103000
DTSTAMP:20260421T103439
CREATED:20200728T132116Z
LAST-MODIFIED:20200728T132116Z
UID:36034-1822903200-1822905000@arundelcathedral.uk
SUMMARY:Mass at Storrington
DESCRIPTION:Mass
URL:https://arundelcathedral.uk/event/mass-5/2027-10-07
LOCATION:Our Lady of England Church\, School Lane\, Storrington\, RH20 4LN\, School Lane\, Storrington\, RH20 4LN\, United Kingdom
END:VEVENT
BEGIN:VEVENT
DTSTART;TZID=Europe/London:20271014T100000
DTEND;TZID=Europe/London:20271014T103000
DTSTAMP:20260421T103439
CREATED:20200728T132116Z
LAST-MODIFIED:20200728T132116Z
UID:36050-1823508000-1823509800@arundelcathedral.uk
SUMMARY:Mass at Storrington
DESCRIPTION:Mass
URL:https://arundelcathedral.uk/event/mass-5/2027-10-14
LOCATION:Our Lady of England Church\, School Lane\, Storrington\, RH20 4LN\, School Lane\, Storrington\, RH20 4LN\, United Kingdom
END:VEVENT
BEGIN:VEVENT
DTSTART;TZID=Europe/London:20271021T100000
DTEND;TZID=Europe/London:20271021T103000
DTSTAMP:20260421T103439
CREATED:20200728T132116Z
LAST-MODIFIED:20200728T132116Z
UID:36065-1824112800-1824114600@arundelcathedral.uk
SUMMARY:Mass at Storrington
DESCRIPTION:Mass
URL:https://arundelcathedral.uk/event/mass-5/2027-10-21
LOCATION:Our Lady of England Church\, School Lane\, Storrington\, RH20 4LN\, School Lane\, Storrington\, RH20 4LN\, United Kingdom
END:VEVENT
BEGIN:VEVENT
DTSTART;TZID=Europe/London:20271028T100000
DTEND;TZID=Europe/London:20271028T103000
DTSTAMP:20260421T103439
CREATED:20200728T132116Z
LAST-MODIFIED:20200728T132116Z
UID:36083-1824717600-1824719400@arundelcathedral.uk
SUMMARY:Mass at Storrington
DESCRIPTION:Mass
URL:https://arundelcathedral.uk/event/mass-5/2027-10-28
LOCATION:Our Lady of England Church\, School Lane\, Storrington\, RH20 4LN\, School Lane\, Storrington\, RH20 4LN\, United Kingdom
END:VEVENT
BEGIN:VEVENT
DTSTART;TZID=Europe/London:20271104T100000
DTEND;TZID=Europe/London:20271104T103000
DTSTAMP:20260421T103439
CREATED:20200728T132116Z
LAST-MODIFIED:20200728T132116Z
UID:36105-1825322400-1825324200@arundelcathedral.uk
SUMMARY:Mass at Storrington
DESCRIPTION:Mass
URL:https://arundelcathedral.uk/event/mass-5/2027-11-04
LOCATION:Our Lady of England Church\, School Lane\, Storrington\, RH20 4LN\, School Lane\, Storrington\, RH20 4LN\, United Kingdom
END:VEVENT
BEGIN:VEVENT
DTSTART;TZID=Europe/London:20271111T100000
DTEND;TZID=Europe/London:20271111T103000
DTSTAMP:20260421T103439
CREATED:20200728T132116Z
LAST-MODIFIED:20200728T132116Z
UID:36153-1825927200-1825929000@arundelcathedral.uk
SUMMARY:Mass at Storrington
DESCRIPTION:Mass
URL:https://arundelcathedral.uk/event/mass-5/2027-11-11
LOCATION:Our Lady of England Church\, School Lane\, Storrington\, RH20 4LN\, School Lane\, Storrington\, RH20 4LN\, United Kingdom
END:VEVENT
BEGIN:VEVENT
DTSTART;TZID=Europe/London:20271118T100000
DTEND;TZID=Europe/London:20271118T103000
DTSTAMP:20260421T103439
CREATED:20200728T132116Z
LAST-MODIFIED:20200728T132116Z
UID:36179-1826532000-1826533800@arundelcathedral.uk
SUMMARY:Mass at Storrington
DESCRIPTION:Mass
URL:https://arundelcathedral.uk/event/mass-5/2027-11-18
LOCATION:Our Lady of England Church\, School Lane\, Storrington\, RH20 4LN\, School Lane\, Storrington\, RH20 4LN\, United Kingdom
END:VEVENT
BEGIN:VEVENT
DTSTART;TZID=Europe/London:20271125T100000
DTEND;TZID=Europe/London:20271125T103000
DTSTAMP:20260421T103439
CREATED:20200728T132116Z
LAST-MODIFIED:20200728T132116Z
UID:36210-1827136800-1827138600@arundelcathedral.uk
SUMMARY:Mass at Storrington
DESCRIPTION:Mass
URL:https://arundelcathedral.uk/event/mass-5/2027-11-25
LOCATION:Our Lady of England Church\, School Lane\, Storrington\, RH20 4LN\, School Lane\, Storrington\, RH20 4LN\, United Kingdom
END:VEVENT
BEGIN:VEVENT
DTSTART;TZID=Europe/London:20271202T100000
DTEND;TZID=Europe/London:20271202T103000
DTSTAMP:20260421T103439
CREATED:20200728T132116Z
LAST-MODIFIED:20200728T132116Z
UID:36243-1827741600-1827743400@arundelcathedral.uk
SUMMARY:Mass at Storrington
DESCRIPTION:Mass
URL:https://arundelcathedral.uk/event/mass-5/2027-12-02
LOCATION:Our Lady of England Church\, School Lane\, Storrington\, RH20 4LN\, School Lane\, Storrington\, RH20 4LN\, United Kingdom
END:VEVENT
BEGIN:VEVENT
DTSTART;TZID=Europe/London:20271209T100000
DTEND;TZID=Europe/London:20271209T103000
DTSTAMP:20260421T103439
CREATED:20200728T132116Z
LAST-MODIFIED:20200728T132116Z
UID:36306-1828346400-1828348200@arundelcathedral.uk
SUMMARY:Mass at Storrington
DESCRIPTION:Mass
URL:https://arundelcathedral.uk/event/mass-5/2027-12-09
LOCATION:Our Lady of England Church\, School Lane\, Storrington\, RH20 4LN\, School Lane\, Storrington\, RH20 4LN\, United Kingdom
END:VEVENT
BEGIN:VEVENT
DTSTART;TZID=Europe/London:20271216T100000
DTEND;TZID=Europe/London:20271216T103000
DTSTAMP:20260421T103439
CREATED:20200728T132116Z
LAST-MODIFIED:20200728T132116Z
UID:36328-1828951200-1828953000@arundelcathedral.uk
SUMMARY:Mass at Storrington
DESCRIPTION:Mass
URL:https://arundelcathedral.uk/event/mass-5/2027-12-16
LOCATION:Our Lady of England Church\, School Lane\, Storrington\, RH20 4LN\, School Lane\, Storrington\, RH20 4LN\, United Kingdom
END:VEVENT
BEGIN:VEVENT
DTSTART;TZID=Europe/London:20271223T100000
DTEND;TZID=Europe/London:20271223T103000
DTSTAMP:20260421T103439
CREATED:20200728T132116Z
LAST-MODIFIED:20200728T132116Z
UID:36356-1829556000-1829557800@arundelcathedral.uk
SUMMARY:Mass at Storrington
DESCRIPTION:Mass
URL:https://arundelcathedral.uk/event/mass-5/2027-12-23
LOCATION:Our Lady of England Church\, School Lane\, Storrington\, RH20 4LN\, School Lane\, Storrington\, RH20 4LN\, United Kingdom
END:VEVENT
BEGIN:VEVENT
DTSTART;TZID=Europe/London:20271230T100000
DTEND;TZID=Europe/London:20271230T103000
DTSTAMP:20260421T103439
CREATED:20200728T132116Z
LAST-MODIFIED:20200728T132116Z
UID:36372-1830160800-1830162600@arundelcathedral.uk
SUMMARY:Mass at Storrington
DESCRIPTION:Mass
URL:https://arundelcathedral.uk/event/mass-5/2027-12-30
LOCATION:Our Lady of England Church\, School Lane\, Storrington\, RH20 4LN\, School Lane\, Storrington\, RH20 4LN\, United Kingdom
END:VEVENT
BEGIN:VEVENT
DTSTART;TZID=Europe/London:20280106T100000
DTEND;TZID=Europe/London:20280106T103000
DTSTAMP:20260421T103439
CREATED:20200728T132116Z
LAST-MODIFIED:20200728T132116Z
UID:36390-1830765600-1830767400@arundelcathedral.uk
SUMMARY:Mass at Storrington
DESCRIPTION:Mass
URL:https://arundelcathedral.uk/event/mass-5/2028-01-06
LOCATION:Our Lady of England Church\, School Lane\, Storrington\, RH20 4LN\, School Lane\, Storrington\, RH20 4LN\, United Kingdom
END:VEVENT
END:VCALENDAR