BEGIN:VCALENDAR
VERSION:2.0
PRODID:-//Arundel Cathedral - ECPv5.16.4//NONSGML v1.0//EN
CALSCALE:GREGORIAN
METHOD:PUBLISH
X-ORIGINAL-URL:https://arundelcathedral.uk
X-WR-CALDESC:Events for Arundel Cathedral
REFRESH-INTERVAL;VALUE=DURATION:PT1H
X-Robots-Tag:noindex
X-PUBLISHED-TTL:PT1H
BEGIN:VTIMEZONE
TZID:Europe/London
BEGIN:DAYLIGHT
TZOFFSETFROM:+0000
TZOFFSETTO:+0100
TZNAME:BST
DTSTART:20260329T010000
END:DAYLIGHT
BEGIN:STANDARD
TZOFFSETFROM:+0100
TZOFFSETTO:+0000
TZNAME:GMT
DTSTART:20261025T010000
END:STANDARD
END:VTIMEZONE
BEGIN:VEVENT
DTSTART;TZID=Europe/London:20260428T100000
DTEND;TZID=Europe/London:20260428T103000
DTSTAMP:20260420T093123
CREATED:20200728T133617Z
LAST-MODIFIED:20240510T123933Z
UID:32198-1777370400-1777372200@arundelcathedral.uk
SUMMARY:Mass at Storrington
DESCRIPTION:Mass
URL:https://arundelcathedral.uk/event/mass-7/2026-04-28
LOCATION:Our Lady of England Church\, School Lane\, Storrington\, RH20 4LN\, School Lane\, Storrington\, RH20 4LN\, United Kingdom
END:VEVENT
END:VCALENDAR