BEGIN:VCALENDAR
VERSION:2.0
PRODID:-//Arundel Cathedral - ECPv5.16.4//NONSGML v1.0//EN
CALSCALE:GREGORIAN
METHOD:PUBLISH
X-ORIGINAL-URL:https://arundelcathedral.uk
X-WR-CALDESC:Events for Arundel Cathedral
REFRESH-INTERVAL;VALUE=DURATION:PT1H
X-Robots-Tag:noindex
X-PUBLISHED-TTL:PT1H
BEGIN:VTIMEZONE
TZID:Europe/London
BEGIN:DAYLIGHT
TZOFFSETFROM:+0000
TZOFFSETTO:+0100
TZNAME:BST
DTSTART:20260329T010000
END:DAYLIGHT
BEGIN:STANDARD
TZOFFSETFROM:+0100
TZOFFSETTO:+0000
TZNAME:GMT
DTSTART:20261025T010000
END:STANDARD
END:VTIMEZONE
BEGIN:VEVENT
DTSTART;TZID=Europe/London:20260605T091500
DTEND;TZID=Europe/London:20260605T095500
DTSTAMP:20260420T135437
CREATED:20240813T084835Z
LAST-MODIFIED:20240813T084835Z
UID:33670-1780650900-1780653300@arundelcathedral.uk
SUMMARY:Adoration at Arundel
DESCRIPTION:Adoration of the Blessed Sacrament
URL:https://arundelcathedral.uk/event/adoration/2026-06-05
LOCATION:Arundel Cathedral of Our Lady and Saint Philip Howard\, London Rd\, Arundel BN18 9AY\, UK\, London Road\, United Kingdom
GEO:50.855329855906;-0.55711936660071
X-APPLE-STRUCTURED-LOCATION;VALUE=URI;X-ADDRESS=Arundel Cathedral of Our Lady and Saint Philip Howard London Rd Arundel BN18 9AY UK London Road United Kingdom;X-APPLE-RADIUS=500;X-TITLE=London Road:geo:-0.55711936660071,50.855329855906
END:VEVENT
BEGIN:VEVENT
DTSTART;TZID=Europe/London:20260605T100000
DTEND;TZID=Europe/London:20260605T103000
DTSTAMP:20260420T135437
CREATED:20200728T133500Z
LAST-MODIFIED:20240813T130909Z
UID:32926-1780653600-1780655400@arundelcathedral.uk
SUMMARY:Mass at Arundel
DESCRIPTION:Masses during winter may be held in the Sacristy
URL:https://arundelcathedral.uk/event/mass-6/2026-06-05
LOCATION:Arundel Cathedral of Our Lady and Saint Philip Howard\, London Rd\, Arundel BN18 9AY\, UK\, London Road\, United Kingdom
GEO:50.855329855906;-0.55711936660071
X-APPLE-STRUCTURED-LOCATION;VALUE=URI;X-ADDRESS=Arundel Cathedral of Our Lady and Saint Philip Howard London Rd Arundel BN18 9AY UK London Road United Kingdom;X-APPLE-RADIUS=500;X-TITLE=London Road:geo:-0.55711936660071,50.855329855906
END:VEVENT
END:VCALENDAR