BEGIN:VCALENDAR
VERSION:2.0
PRODID:-//Arundel Cathedral - ECPv5.16.4//NONSGML v1.0//EN
CALSCALE:GREGORIAN
METHOD:PUBLISH
X-ORIGINAL-URL:https://arundelcathedral.uk
X-WR-CALDESC:Events for Arundel Cathedral
REFRESH-INTERVAL;VALUE=DURATION:PT1H
X-Robots-Tag:noindex
X-PUBLISHED-TTL:PT1H
BEGIN:VTIMEZONE
TZID:Europe/London
BEGIN:DAYLIGHT
TZOFFSETFROM:+0000
TZOFFSETTO:+0100
TZNAME:BST
DTSTART:20270328T010000
END:DAYLIGHT
BEGIN:STANDARD
TZOFFSETFROM:+0100
TZOFFSETTO:+0000
TZNAME:GMT
DTSTART:20271031T010000
END:STANDARD
END:VTIMEZONE
BEGIN:VEVENT
DTSTART;TZID=Europe/London:20270517T100000
DTEND;TZID=Europe/London:20270517T103000
DTSTAMP:20260423T120409
CREATED:20240508T143711Z
LAST-MODIFIED:20240508T143711Z
UID:35603-1810548000-1810549800@arundelcathedral.uk
SUMMARY:Mass at Arundel
DESCRIPTION:Mass
URL:https://arundelcathedral.uk/event/mass/2027-05-17
LOCATION:Arundel Cathedral of Our Lady and Saint Philip Howard\, London Rd\, Arundel BN18 9AY\, UK\, London Road\, United Kingdom
GEO:50.855329855906;-0.55711936660071
X-APPLE-STRUCTURED-LOCATION;VALUE=URI;X-ADDRESS=Arundel Cathedral of Our Lady and Saint Philip Howard London Rd Arundel BN18 9AY UK London Road United Kingdom;X-APPLE-RADIUS=500;X-TITLE=London Road:geo:-0.55711936660071,50.855329855906
END:VEVENT
END:VCALENDAR