BEGIN:VCALENDAR
VERSION:2.0
PRODID:-//Arundel Cathedral - ECPv5.16.4//NONSGML v1.0//EN
CALSCALE:GREGORIAN
METHOD:PUBLISH
X-ORIGINAL-URL:https://arundelcathedral.uk
X-WR-CALDESC:Events for Arundel Cathedral
REFRESH-INTERVAL;VALUE=DURATION:PT1H
X-Robots-Tag:noindex
X-PUBLISHED-TTL:PT1H
BEGIN:VTIMEZONE
TZID:Europe/London
BEGIN:DAYLIGHT
TZOFFSETFROM:+0000
TZOFFSETTO:+0100
TZNAME:BST
DTSTART:20260329T010000
END:DAYLIGHT
BEGIN:STANDARD
TZOFFSETFROM:+0100
TZOFFSETTO:+0000
TZNAME:GMT
DTSTART:20261025T010000
END:STANDARD
END:VTIMEZONE
BEGIN:VEVENT
DTSTART;TZID=Europe/London:20260701T100000
DTEND;TZID=Europe/London:20260701T104500
DTSTAMP:20260421T161218
CREATED:20240813T085243Z
LAST-MODIFIED:20240813T093917Z
UID:33404-1782900000-1782902700@arundelcathedral.uk
SUMMARY:Mass at Arundel
DESCRIPTION:Mass
URL:https://arundelcathedral.uk/event/mass-at-arundel/2026-07-01
LOCATION:Arundel Cathedral of Our Lady and Saint Philip Howard\, London Rd\, Arundel BN18 9AY\, UK\, London Road\, United Kingdom
GEO:50.855329855906;-0.55711936660071
X-APPLE-STRUCTURED-LOCATION;VALUE=URI;X-ADDRESS=Arundel Cathedral of Our Lady and Saint Philip Howard London Rd Arundel BN18 9AY UK London Road United Kingdom;X-APPLE-RADIUS=500;X-TITLE=London Road:geo:-0.55711936660071,50.855329855906
END:VEVENT
BEGIN:VEVENT
DTSTART;TZID=Europe/London:20260703T091500
DTEND;TZID=Europe/London:20260703T095500
DTSTAMP:20260421T161218
CREATED:20240813T084835Z
LAST-MODIFIED:20240813T084835Z
UID:33674-1783070100-1783072500@arundelcathedral.uk
SUMMARY:Adoration at Arundel
DESCRIPTION:Adoration of the Blessed Sacrament
URL:https://arundelcathedral.uk/event/adoration/2026-07-03
LOCATION:Arundel Cathedral of Our Lady and Saint Philip Howard\, London Rd\, Arundel BN18 9AY\, UK\, London Road\, United Kingdom
GEO:50.855329855906;-0.55711936660071
X-APPLE-STRUCTURED-LOCATION;VALUE=URI;X-ADDRESS=Arundel Cathedral of Our Lady and Saint Philip Howard London Rd Arundel BN18 9AY UK London Road United Kingdom;X-APPLE-RADIUS=500;X-TITLE=London Road:geo:-0.55711936660071,50.855329855906
END:VEVENT
BEGIN:VEVENT
DTSTART;TZID=Europe/London:20260703T100000
DTEND;TZID=Europe/London:20260703T103000
DTSTAMP:20260421T161218
CREATED:20200728T133500Z
LAST-MODIFIED:20240813T130910Z
UID:33161-1783072800-1783074600@arundelcathedral.uk
SUMMARY:Mass at Arundel
DESCRIPTION:Masses during winter may be held in the Sacristy
URL:https://arundelcathedral.uk/event/mass-6/2026-07-03
LOCATION:Arundel Cathedral of Our Lady and Saint Philip Howard\, London Rd\, Arundel BN18 9AY\, UK\, London Road\, United Kingdom
GEO:50.855329855906;-0.55711936660071
X-APPLE-STRUCTURED-LOCATION;VALUE=URI;X-ADDRESS=Arundel Cathedral of Our Lady and Saint Philip Howard London Rd Arundel BN18 9AY UK London Road United Kingdom;X-APPLE-RADIUS=500;X-TITLE=London Road:geo:-0.55711936660071,50.855329855906
END:VEVENT
BEGIN:VEVENT
DTSTART;TZID=Europe/London:20260704T100000
DTEND;TZID=Europe/London:20260704T103000
DTSTAMP:20260421T161218
CREATED:20200728T133914Z
LAST-MODIFIED:20240813T123923Z
UID:33163-1783159200-1783161000@arundelcathedral.uk
SUMMARY:Mass at Arundel
DESCRIPTION:This Mass may be attended in person and will also be live streamed.
URL:https://arundelcathedral.uk/event/mass-9/2026-07-04
LOCATION:Arundel Cathedral of Our Lady and Saint Philip Howard\, London Rd\, Arundel BN18 9AY\, UK\, London Road\, United Kingdom
GEO:50.855329855906;-0.55711936660071
X-APPLE-STRUCTURED-LOCATION;VALUE=URI;X-ADDRESS=Arundel Cathedral of Our Lady and Saint Philip Howard London Rd Arundel BN18 9AY UK London Road United Kingdom;X-APPLE-RADIUS=500;X-TITLE=London Road:geo:-0.55711936660071,50.855329855906
END:VEVENT
BEGIN:VEVENT
DTSTART;TZID=Europe/London:20260704T170000
DTEND;TZID=Europe/London:20260704T180000
DTSTAMP:20260421T161218
CREATED:20240422T111041Z
LAST-MODIFIED:20240813T113932Z
UID:33164-1783184400-1783188000@arundelcathedral.uk
SUMMARY:Vigil Mass of Sunday at Arundel
DESCRIPTION:Mass
URL:https://arundelcathedral.uk/event/vigil-mass-of-sunday/2026-07-04
LOCATION:Arundel Cathedral of Our Lady and Saint Philip Howard\, London Rd\, Arundel BN18 9AY\, UK\, London Road\, United Kingdom
GEO:50.855329855906;-0.55711936660071
X-APPLE-STRUCTURED-LOCATION;VALUE=URI;X-ADDRESS=Arundel Cathedral of Our Lady and Saint Philip Howard London Rd Arundel BN18 9AY UK London Road United Kingdom;X-APPLE-RADIUS=500;X-TITLE=London Road:geo:-0.55711936660071,50.855329855906
END:VEVENT
BEGIN:VEVENT
DTSTART;TZID=Europe/London:20260705T110000
DTEND;TZID=Europe/London:20260705T120000
DTSTAMP:20260421T161218
CREATED:20240422T111124Z
LAST-MODIFIED:20240422T111124Z
UID:34702-1783249200-1783252800@arundelcathedral.uk
SUMMARY:Sunday Mass at Arundel
DESCRIPTION:Mass
URL:https://arundelcathedral.uk/event/sunday-mass/2026-07-05
LOCATION:Arundel Cathedral of Our Lady and Saint Philip Howard\, London Rd\, Arundel BN18 9AY\, UK\, London Road\, United Kingdom
GEO:50.855329855906;-0.55711936660071
X-APPLE-STRUCTURED-LOCATION;VALUE=URI;X-ADDRESS=Arundel Cathedral of Our Lady and Saint Philip Howard London Rd Arundel BN18 9AY UK London Road United Kingdom;X-APPLE-RADIUS=500;X-TITLE=London Road:geo:-0.55711936660071,50.855329855906
END:VEVENT
BEGIN:VEVENT
DTSTART;TZID=Europe/London:20260705T110000
DTEND;TZID=Europe/London:20260705T120000
DTSTAMP:20260421T161218
CREATED:20241029T121004Z
LAST-MODIFIED:20241029T121004Z
UID:34593-1783249200-1783252800@arundelcathedral.uk
SUMMARY:Sunday Mass at Arundel
DESCRIPTION:Mass
URL:https://arundelcathedral.uk/event/sunday-mass-at-arundel/2026-07-05
LOCATION:Arundel Cathedral of Our Lady and Saint Philip Howard\, London Rd\, Arundel BN18 9AY\, UK\, London Road\, United Kingdom
GEO:50.855329855906;-0.55711936660071
X-APPLE-STRUCTURED-LOCATION;VALUE=URI;X-ADDRESS=Arundel Cathedral of Our Lady and Saint Philip Howard London Rd Arundel BN18 9AY UK London Road United Kingdom;X-APPLE-RADIUS=500;X-TITLE=London Road:geo:-0.55711936660071,50.855329855906
END:VEVENT
BEGIN:VEVENT
DTSTART;TZID=Europe/London:20260706T100000
DTEND;TZID=Europe/London:20260706T103000
DTSTAMP:20260421T161218
CREATED:20240508T143711Z
LAST-MODIFIED:20240813T103914Z
UID:33172-1783332000-1783333800@arundelcathedral.uk
SUMMARY:Mass at Arundel
DESCRIPTION:Mass
URL:https://arundelcathedral.uk/event/mass/2026-07-06
LOCATION:Arundel Cathedral of Our Lady and Saint Philip Howard\, London Rd\, Arundel BN18 9AY\, UK\, London Road\, United Kingdom
GEO:50.855329855906;-0.55711936660071
X-APPLE-STRUCTURED-LOCATION;VALUE=URI;X-ADDRESS=Arundel Cathedral of Our Lady and Saint Philip Howard London Rd Arundel BN18 9AY UK London Road United Kingdom;X-APPLE-RADIUS=500;X-TITLE=London Road:geo:-0.55711936660071,50.855329855906
END:VEVENT
BEGIN:VEVENT
DTSTART;TZID=Europe/London:20260708T100000
DTEND;TZID=Europe/London:20260708T104500
DTSTAMP:20260421T161218
CREATED:20240813T085243Z
LAST-MODIFIED:20240813T093918Z
UID:33405-1783504800-1783507500@arundelcathedral.uk
SUMMARY:Mass at Arundel
DESCRIPTION:Mass
URL:https://arundelcathedral.uk/event/mass-at-arundel/2026-07-08
LOCATION:Arundel Cathedral of Our Lady and Saint Philip Howard\, London Rd\, Arundel BN18 9AY\, UK\, London Road\, United Kingdom
GEO:50.855329855906;-0.55711936660071
X-APPLE-STRUCTURED-LOCATION;VALUE=URI;X-ADDRESS=Arundel Cathedral of Our Lady and Saint Philip Howard London Rd Arundel BN18 9AY UK London Road United Kingdom;X-APPLE-RADIUS=500;X-TITLE=London Road:geo:-0.55711936660071,50.855329855906
END:VEVENT
BEGIN:VEVENT
DTSTART;TZID=Europe/London:20260710T091500
DTEND;TZID=Europe/London:20260710T095500
DTSTAMP:20260421T161218
CREATED:20240813T084835Z
LAST-MODIFIED:20240813T084835Z
UID:33675-1783674900-1783677300@arundelcathedral.uk
SUMMARY:Adoration at Arundel
DESCRIPTION:Adoration of the Blessed Sacrament
URL:https://arundelcathedral.uk/event/adoration/2026-07-10
LOCATION:Arundel Cathedral of Our Lady and Saint Philip Howard\, London Rd\, Arundel BN18 9AY\, UK\, London Road\, United Kingdom
GEO:50.855329855906;-0.55711936660071
X-APPLE-STRUCTURED-LOCATION;VALUE=URI;X-ADDRESS=Arundel Cathedral of Our Lady and Saint Philip Howard London Rd Arundel BN18 9AY UK London Road United Kingdom;X-APPLE-RADIUS=500;X-TITLE=London Road:geo:-0.55711936660071,50.855329855906
END:VEVENT
BEGIN:VEVENT
DTSTART;TZID=Europe/London:20260710T100000
DTEND;TZID=Europe/London:20260710T103000
DTSTAMP:20260421T161218
CREATED:20200728T133500Z
LAST-MODIFIED:20240813T130910Z
UID:33177-1783677600-1783679400@arundelcathedral.uk
SUMMARY:Mass at Arundel
DESCRIPTION:Masses during winter may be held in the Sacristy
URL:https://arundelcathedral.uk/event/mass-6/2026-07-10
LOCATION:Arundel Cathedral of Our Lady and Saint Philip Howard\, London Rd\, Arundel BN18 9AY\, UK\, London Road\, United Kingdom
GEO:50.855329855906;-0.55711936660071
X-APPLE-STRUCTURED-LOCATION;VALUE=URI;X-ADDRESS=Arundel Cathedral of Our Lady and Saint Philip Howard London Rd Arundel BN18 9AY UK London Road United Kingdom;X-APPLE-RADIUS=500;X-TITLE=London Road:geo:-0.55711936660071,50.855329855906
END:VEVENT
BEGIN:VEVENT
DTSTART;TZID=Europe/London:20260711T100000
DTEND;TZID=Europe/London:20260711T103000
DTSTAMP:20260421T161218
CREATED:20200728T133914Z
LAST-MODIFIED:20240813T123924Z
UID:33178-1783764000-1783765800@arundelcathedral.uk
SUMMARY:Mass at Arundel
DESCRIPTION:This Mass may be attended in person and will also be live streamed.
URL:https://arundelcathedral.uk/event/mass-9/2026-07-11
LOCATION:Arundel Cathedral of Our Lady and Saint Philip Howard\, London Rd\, Arundel BN18 9AY\, UK\, London Road\, United Kingdom
GEO:50.855329855906;-0.55711936660071
X-APPLE-STRUCTURED-LOCATION;VALUE=URI;X-ADDRESS=Arundel Cathedral of Our Lady and Saint Philip Howard London Rd Arundel BN18 9AY UK London Road United Kingdom;X-APPLE-RADIUS=500;X-TITLE=London Road:geo:-0.55711936660071,50.855329855906
END:VEVENT
BEGIN:VEVENT
DTSTART;TZID=Europe/London:20260711T170000
DTEND;TZID=Europe/London:20260711T180000
DTSTAMP:20260421T161218
CREATED:20240422T111041Z
LAST-MODIFIED:20240813T113932Z
UID:33179-1783789200-1783792800@arundelcathedral.uk
SUMMARY:Vigil Mass of Sunday at Arundel
DESCRIPTION:Mass
URL:https://arundelcathedral.uk/event/vigil-mass-of-sunday/2026-07-11
LOCATION:Arundel Cathedral of Our Lady and Saint Philip Howard\, London Rd\, Arundel BN18 9AY\, UK\, London Road\, United Kingdom
GEO:50.855329855906;-0.55711936660071
X-APPLE-STRUCTURED-LOCATION;VALUE=URI;X-ADDRESS=Arundel Cathedral of Our Lady and Saint Philip Howard London Rd Arundel BN18 9AY UK London Road United Kingdom;X-APPLE-RADIUS=500;X-TITLE=London Road:geo:-0.55711936660071,50.855329855906
END:VEVENT
BEGIN:VEVENT
DTSTART;TZID=Europe/London:20260712T110000
DTEND;TZID=Europe/London:20260712T120000
DTSTAMP:20260421T161218
CREATED:20240422T111124Z
LAST-MODIFIED:20240422T111124Z
UID:34703-1783854000-1783857600@arundelcathedral.uk
SUMMARY:Sunday Mass at Arundel
DESCRIPTION:Mass
URL:https://arundelcathedral.uk/event/sunday-mass/2026-07-12
LOCATION:Arundel Cathedral of Our Lady and Saint Philip Howard\, London Rd\, Arundel BN18 9AY\, UK\, London Road\, United Kingdom
GEO:50.855329855906;-0.55711936660071
X-APPLE-STRUCTURED-LOCATION;VALUE=URI;X-ADDRESS=Arundel Cathedral of Our Lady and Saint Philip Howard London Rd Arundel BN18 9AY UK London Road United Kingdom;X-APPLE-RADIUS=500;X-TITLE=London Road:geo:-0.55711936660071,50.855329855906
END:VEVENT
BEGIN:VEVENT
DTSTART;TZID=Europe/London:20260712T110000
DTEND;TZID=Europe/London:20260712T120000
DTSTAMP:20260421T161218
CREATED:20241029T121004Z
LAST-MODIFIED:20241029T121004Z
UID:34594-1783854000-1783857600@arundelcathedral.uk
SUMMARY:Sunday Mass at Arundel
DESCRIPTION:Mass
URL:https://arundelcathedral.uk/event/sunday-mass-at-arundel/2026-07-12
LOCATION:Arundel Cathedral of Our Lady and Saint Philip Howard\, London Rd\, Arundel BN18 9AY\, UK\, London Road\, United Kingdom
GEO:50.855329855906;-0.55711936660071
X-APPLE-STRUCTURED-LOCATION;VALUE=URI;X-ADDRESS=Arundel Cathedral of Our Lady and Saint Philip Howard London Rd Arundel BN18 9AY UK London Road United Kingdom;X-APPLE-RADIUS=500;X-TITLE=London Road:geo:-0.55711936660071,50.855329855906
END:VEVENT
BEGIN:VEVENT
DTSTART;TZID=Europe/London:20260713T100000
DTEND;TZID=Europe/London:20260713T103000
DTSTAMP:20260421T161218
CREATED:20240508T143711Z
LAST-MODIFIED:20240813T103915Z
UID:33188-1783936800-1783938600@arundelcathedral.uk
SUMMARY:Mass at Arundel
DESCRIPTION:Mass
URL:https://arundelcathedral.uk/event/mass/2026-07-13
LOCATION:Arundel Cathedral of Our Lady and Saint Philip Howard\, London Rd\, Arundel BN18 9AY\, UK\, London Road\, United Kingdom
GEO:50.855329855906;-0.55711936660071
X-APPLE-STRUCTURED-LOCATION;VALUE=URI;X-ADDRESS=Arundel Cathedral of Our Lady and Saint Philip Howard London Rd Arundel BN18 9AY UK London Road United Kingdom;X-APPLE-RADIUS=500;X-TITLE=London Road:geo:-0.55711936660071,50.855329855906
END:VEVENT
BEGIN:VEVENT
DTSTART;TZID=Europe/London:20260715T100000
DTEND;TZID=Europe/London:20260715T104500
DTSTAMP:20260421T161218
CREATED:20240813T085243Z
LAST-MODIFIED:20240813T093918Z
UID:33406-1784109600-1784112300@arundelcathedral.uk
SUMMARY:Mass at Arundel
DESCRIPTION:Mass
URL:https://arundelcathedral.uk/event/mass-at-arundel/2026-07-15
LOCATION:Arundel Cathedral of Our Lady and Saint Philip Howard\, London Rd\, Arundel BN18 9AY\, UK\, London Road\, United Kingdom
GEO:50.855329855906;-0.55711936660071
X-APPLE-STRUCTURED-LOCATION;VALUE=URI;X-ADDRESS=Arundel Cathedral of Our Lady and Saint Philip Howard London Rd Arundel BN18 9AY UK London Road United Kingdom;X-APPLE-RADIUS=500;X-TITLE=London Road:geo:-0.55711936660071,50.855329855906
END:VEVENT
BEGIN:VEVENT
DTSTART;TZID=Europe/London:20260717T091500
DTEND;TZID=Europe/London:20260717T095500
DTSTAMP:20260421T161218
CREATED:20240813T084835Z
LAST-MODIFIED:20240813T084835Z
UID:33676-1784279700-1784282100@arundelcathedral.uk
SUMMARY:Adoration at Arundel
DESCRIPTION:Adoration of the Blessed Sacrament
URL:https://arundelcathedral.uk/event/adoration/2026-07-17
LOCATION:Arundel Cathedral of Our Lady and Saint Philip Howard\, London Rd\, Arundel BN18 9AY\, UK\, London Road\, United Kingdom
GEO:50.855329855906;-0.55711936660071
X-APPLE-STRUCTURED-LOCATION;VALUE=URI;X-ADDRESS=Arundel Cathedral of Our Lady and Saint Philip Howard London Rd Arundel BN18 9AY UK London Road United Kingdom;X-APPLE-RADIUS=500;X-TITLE=London Road:geo:-0.55711936660071,50.855329855906
END:VEVENT
BEGIN:VEVENT
DTSTART;TZID=Europe/London:20260717T100000
DTEND;TZID=Europe/London:20260717T103000
DTSTAMP:20260421T161218
CREATED:20200728T133500Z
LAST-MODIFIED:20240813T130910Z
UID:33194-1784282400-1784284200@arundelcathedral.uk
SUMMARY:Mass at Arundel
DESCRIPTION:Masses during winter may be held in the Sacristy
URL:https://arundelcathedral.uk/event/mass-6/2026-07-17
LOCATION:Arundel Cathedral of Our Lady and Saint Philip Howard\, London Rd\, Arundel BN18 9AY\, UK\, London Road\, United Kingdom
GEO:50.855329855906;-0.55711936660071
X-APPLE-STRUCTURED-LOCATION;VALUE=URI;X-ADDRESS=Arundel Cathedral of Our Lady and Saint Philip Howard London Rd Arundel BN18 9AY UK London Road United Kingdom;X-APPLE-RADIUS=500;X-TITLE=London Road:geo:-0.55711936660071,50.855329855906
END:VEVENT
BEGIN:VEVENT
DTSTART;TZID=Europe/London:20260718T100000
DTEND;TZID=Europe/London:20260718T103000
DTSTAMP:20260421T161218
CREATED:20200728T133914Z
LAST-MODIFIED:20240813T123924Z
UID:33195-1784368800-1784370600@arundelcathedral.uk
SUMMARY:Mass at Arundel
DESCRIPTION:This Mass may be attended in person and will also be live streamed.
URL:https://arundelcathedral.uk/event/mass-9/2026-07-18
LOCATION:Arundel Cathedral of Our Lady and Saint Philip Howard\, London Rd\, Arundel BN18 9AY\, UK\, London Road\, United Kingdom
GEO:50.855329855906;-0.55711936660071
X-APPLE-STRUCTURED-LOCATION;VALUE=URI;X-ADDRESS=Arundel Cathedral of Our Lady and Saint Philip Howard London Rd Arundel BN18 9AY UK London Road United Kingdom;X-APPLE-RADIUS=500;X-TITLE=London Road:geo:-0.55711936660071,50.855329855906
END:VEVENT
BEGIN:VEVENT
DTSTART;TZID=Europe/London:20260718T170000
DTEND;TZID=Europe/London:20260718T180000
DTSTAMP:20260421T161218
CREATED:20240422T111041Z
LAST-MODIFIED:20240813T113932Z
UID:33196-1784394000-1784397600@arundelcathedral.uk
SUMMARY:Vigil Mass of Sunday at Arundel
DESCRIPTION:Mass
URL:https://arundelcathedral.uk/event/vigil-mass-of-sunday/2026-07-18
LOCATION:Arundel Cathedral of Our Lady and Saint Philip Howard\, London Rd\, Arundel BN18 9AY\, UK\, London Road\, United Kingdom
GEO:50.855329855906;-0.55711936660071
X-APPLE-STRUCTURED-LOCATION;VALUE=URI;X-ADDRESS=Arundel Cathedral of Our Lady and Saint Philip Howard London Rd Arundel BN18 9AY UK London Road United Kingdom;X-APPLE-RADIUS=500;X-TITLE=London Road:geo:-0.55711936660071,50.855329855906
END:VEVENT
BEGIN:VEVENT
DTSTART;TZID=Europe/London:20260719T110000
DTEND;TZID=Europe/London:20260719T120000
DTSTAMP:20260421T161218
CREATED:20240422T111124Z
LAST-MODIFIED:20240422T111124Z
UID:34704-1784458800-1784462400@arundelcathedral.uk
SUMMARY:Sunday Mass at Arundel
DESCRIPTION:Mass
URL:https://arundelcathedral.uk/event/sunday-mass/2026-07-19
LOCATION:Arundel Cathedral of Our Lady and Saint Philip Howard\, London Rd\, Arundel BN18 9AY\, UK\, London Road\, United Kingdom
GEO:50.855329855906;-0.55711936660071
X-APPLE-STRUCTURED-LOCATION;VALUE=URI;X-ADDRESS=Arundel Cathedral of Our Lady and Saint Philip Howard London Rd Arundel BN18 9AY UK London Road United Kingdom;X-APPLE-RADIUS=500;X-TITLE=London Road:geo:-0.55711936660071,50.855329855906
END:VEVENT
BEGIN:VEVENT
DTSTART;TZID=Europe/London:20260719T110000
DTEND;TZID=Europe/London:20260719T120000
DTSTAMP:20260421T161218
CREATED:20241029T121004Z
LAST-MODIFIED:20241029T121004Z
UID:34595-1784458800-1784462400@arundelcathedral.uk
SUMMARY:Sunday Mass at Arundel
DESCRIPTION:Mass
URL:https://arundelcathedral.uk/event/sunday-mass-at-arundel/2026-07-19
LOCATION:Arundel Cathedral of Our Lady and Saint Philip Howard\, London Rd\, Arundel BN18 9AY\, UK\, London Road\, United Kingdom
GEO:50.855329855906;-0.55711936660071
X-APPLE-STRUCTURED-LOCATION;VALUE=URI;X-ADDRESS=Arundel Cathedral of Our Lady and Saint Philip Howard London Rd Arundel BN18 9AY UK London Road United Kingdom;X-APPLE-RADIUS=500;X-TITLE=London Road:geo:-0.55711936660071,50.855329855906
END:VEVENT
BEGIN:VEVENT
DTSTART;TZID=Europe/London:20260720T100000
DTEND;TZID=Europe/London:20260720T103000
DTSTAMP:20260421T161218
CREATED:20240508T143711Z
LAST-MODIFIED:20240813T103915Z
UID:33204-1784541600-1784543400@arundelcathedral.uk
SUMMARY:Mass at Arundel
DESCRIPTION:Mass
URL:https://arundelcathedral.uk/event/mass/2026-07-20
LOCATION:Arundel Cathedral of Our Lady and Saint Philip Howard\, London Rd\, Arundel BN18 9AY\, UK\, London Road\, United Kingdom
GEO:50.855329855906;-0.55711936660071
X-APPLE-STRUCTURED-LOCATION;VALUE=URI;X-ADDRESS=Arundel Cathedral of Our Lady and Saint Philip Howard London Rd Arundel BN18 9AY UK London Road United Kingdom;X-APPLE-RADIUS=500;X-TITLE=London Road:geo:-0.55711936660071,50.855329855906
END:VEVENT
BEGIN:VEVENT
DTSTART;TZID=Europe/London:20260722T100000
DTEND;TZID=Europe/London:20260722T104500
DTSTAMP:20260421T161218
CREATED:20240813T085243Z
LAST-MODIFIED:20240813T093918Z
UID:33407-1784714400-1784717100@arundelcathedral.uk
SUMMARY:Mass at Arundel
DESCRIPTION:Mass
URL:https://arundelcathedral.uk/event/mass-at-arundel/2026-07-22
LOCATION:Arundel Cathedral of Our Lady and Saint Philip Howard\, London Rd\, Arundel BN18 9AY\, UK\, London Road\, United Kingdom
GEO:50.855329855906;-0.55711936660071
X-APPLE-STRUCTURED-LOCATION;VALUE=URI;X-ADDRESS=Arundel Cathedral of Our Lady and Saint Philip Howard London Rd Arundel BN18 9AY UK London Road United Kingdom;X-APPLE-RADIUS=500;X-TITLE=London Road:geo:-0.55711936660071,50.855329855906
END:VEVENT
BEGIN:VEVENT
DTSTART;TZID=Europe/London:20260724T091500
DTEND;TZID=Europe/London:20260724T095500
DTSTAMP:20260421T161218
CREATED:20240813T084835Z
LAST-MODIFIED:20240813T084835Z
UID:33677-1784884500-1784886900@arundelcathedral.uk
SUMMARY:Adoration at Arundel
DESCRIPTION:Adoration of the Blessed Sacrament
URL:https://arundelcathedral.uk/event/adoration/2026-07-24
LOCATION:Arundel Cathedral of Our Lady and Saint Philip Howard\, London Rd\, Arundel BN18 9AY\, UK\, London Road\, United Kingdom
GEO:50.855329855906;-0.55711936660071
X-APPLE-STRUCTURED-LOCATION;VALUE=URI;X-ADDRESS=Arundel Cathedral of Our Lady and Saint Philip Howard London Rd Arundel BN18 9AY UK London Road United Kingdom;X-APPLE-RADIUS=500;X-TITLE=London Road:geo:-0.55711936660071,50.855329855906
END:VEVENT
BEGIN:VEVENT
DTSTART;TZID=Europe/London:20260724T100000
DTEND;TZID=Europe/London:20260724T103000
DTSTAMP:20260421T161218
CREATED:20200728T133500Z
LAST-MODIFIED:20240813T130911Z
UID:33210-1784887200-1784889000@arundelcathedral.uk
SUMMARY:Mass at Arundel
DESCRIPTION:Masses during winter may be held in the Sacristy
URL:https://arundelcathedral.uk/event/mass-6/2026-07-24
LOCATION:Arundel Cathedral of Our Lady and Saint Philip Howard\, London Rd\, Arundel BN18 9AY\, UK\, London Road\, United Kingdom
GEO:50.855329855906;-0.55711936660071
X-APPLE-STRUCTURED-LOCATION;VALUE=URI;X-ADDRESS=Arundel Cathedral of Our Lady and Saint Philip Howard London Rd Arundel BN18 9AY UK London Road United Kingdom;X-APPLE-RADIUS=500;X-TITLE=London Road:geo:-0.55711936660071,50.855329855906
END:VEVENT
BEGIN:VEVENT
DTSTART;TZID=Europe/London:20260725T100000
DTEND;TZID=Europe/London:20260725T103000
DTSTAMP:20260421T161218
CREATED:20200728T133914Z
LAST-MODIFIED:20240813T123924Z
UID:33215-1784973600-1784975400@arundelcathedral.uk
SUMMARY:Mass at Arundel
DESCRIPTION:This Mass may be attended in person and will also be live streamed.
URL:https://arundelcathedral.uk/event/mass-9/2026-07-25
LOCATION:Arundel Cathedral of Our Lady and Saint Philip Howard\, London Rd\, Arundel BN18 9AY\, UK\, London Road\, United Kingdom
GEO:50.855329855906;-0.55711936660071
X-APPLE-STRUCTURED-LOCATION;VALUE=URI;X-ADDRESS=Arundel Cathedral of Our Lady and Saint Philip Howard London Rd Arundel BN18 9AY UK London Road United Kingdom;X-APPLE-RADIUS=500;X-TITLE=London Road:geo:-0.55711936660071,50.855329855906
END:VEVENT
BEGIN:VEVENT
DTSTART;TZID=Europe/London:20260725T170000
DTEND;TZID=Europe/London:20260725T180000
DTSTAMP:20260421T161218
CREATED:20240422T111041Z
LAST-MODIFIED:20240813T113932Z
UID:33216-1784998800-1785002400@arundelcathedral.uk
SUMMARY:Vigil Mass of Sunday at Arundel
DESCRIPTION:Mass
URL:https://arundelcathedral.uk/event/vigil-mass-of-sunday/2026-07-25
LOCATION:Arundel Cathedral of Our Lady and Saint Philip Howard\, London Rd\, Arundel BN18 9AY\, UK\, London Road\, United Kingdom
GEO:50.855329855906;-0.55711936660071
X-APPLE-STRUCTURED-LOCATION;VALUE=URI;X-ADDRESS=Arundel Cathedral of Our Lady and Saint Philip Howard London Rd Arundel BN18 9AY UK London Road United Kingdom;X-APPLE-RADIUS=500;X-TITLE=London Road:geo:-0.55711936660071,50.855329855906
END:VEVENT
BEGIN:VEVENT
DTSTART;TZID=Europe/London:20260726T110000
DTEND;TZID=Europe/London:20260726T120000
DTSTAMP:20260421T161218
CREATED:20240422T111124Z
LAST-MODIFIED:20240422T111124Z
UID:34705-1785063600-1785067200@arundelcathedral.uk
SUMMARY:Sunday Mass at Arundel
DESCRIPTION:Mass
URL:https://arundelcathedral.uk/event/sunday-mass/2026-07-26
LOCATION:Arundel Cathedral of Our Lady and Saint Philip Howard\, London Rd\, Arundel BN18 9AY\, UK\, London Road\, United Kingdom
GEO:50.855329855906;-0.55711936660071
X-APPLE-STRUCTURED-LOCATION;VALUE=URI;X-ADDRESS=Arundel Cathedral of Our Lady and Saint Philip Howard London Rd Arundel BN18 9AY UK London Road United Kingdom;X-APPLE-RADIUS=500;X-TITLE=London Road:geo:-0.55711936660071,50.855329855906
END:VEVENT
END:VCALENDAR